BEGIN:VCALENDAR
VERSION:2.0
PRODID:Events Booking
BEGIN:VEVENT
UID:69e7d3a691e25
SUMMARY:PMI-ACP Prep Class Summer 2021
DESCRIPTION:REGISTRATION: Open
 CLASS DATES: May 17\, 18\, 20\, 24\, 25\, 
 27
 CLASS TIMES: 5:30 - 8:30 PM
 COST: $475 for NCPMI Members\, $550 for
  Non Members
 This class will cover the 21 credit hours which is one of t
 he key requirements for taking the PMI-ACP certification. In addition\, st
 udents who have their PMP\, will gain 21 PDUs towards their PMP renewal.&n
 bsp\;
DTSTART:20210517T213000Z
DTEND:20210528T003000Z
DTSTAMP:20260421T194438Z
ORGANIZER;CN=PMI North Carolina Chapter:MAILTO:bounce@ncpmi.org
END:VEVENT
END:VCALENDAR