BEGIN:VCALENDAR
VERSION:2.0
PRODID:Events Booking
BEGIN:VEVENT
UID:69e65f7e566e6
SUMMARY:Virtual Workshop Series presented by Apex Systems with Live Q & A: 
 Keeping the Long-Distance Relationship Alive: Tips and Techniques to Manag
 ing Virtual Teams with Lisa DiTullio - Workshop 4
DESCRIPTION:Abstract:
 NCPMI in partnership with Apex System is offering a
  Web Seminar Series on Time Management and Communications for All Practiti
 oners. You must watch the on-demand webinar here prior to attending this l
 ive question and answer event.&nbsp\;These sessions will be free&nbsp\;for
  NCPMI Members&nbsp\;and hosted online via&nbsp\;ZOOM.&nbsp\;
 Overview:
 
 
 Are you in a long-term relationship? Recent statistics suggest approx
 imately 14 to 15 million people in the U.S. considered themselves in a lon
 g- distance relationship. In 2016\, a report released on global virtual te
 ams suggested that the virtual team model is ubiquitous\; approximately 45
 % of virtual team members never meet in person. Not only has the virtual t
 eam model grown in popularity\, it has expanded is boundaries- more than h
 alf virtual teams include members from other nations.&nbsp\;&nbsp\;&nbsp\;
 
 How we manage our long-term relationships matter. In this session\, we 
 will explore tips and techniques on how to strengthen our virtual teams to
  produce better results. Topics will include
 
 How to communicate clear
 ly and produce results
 How to employ patterns of reasoning to promote co
 llaboration
 What to think about when preparing presentations to virtual 
 team members
 How to leverage silence for success
 
 
 
LOCATION:Virtual (URL for the session will be provided prior to each weekly
  session)
DTSTART:20201209T170000Z
DTEND:20201209T180000Z
DTSTAMP:20260420T171646Z
ORGANIZER;CN=PMI North Carolina Chapter:MAILTO:bounce@ncpmi.org
GEO:35.896166;-78.870311
X-APPLE-STRUCTURED-LOCATION;VALUE=URI;X-ADDRESS=Virtual (URL for the sessio
 n will be provided prior to each weekly session);X-APPLE-RADIUS=72;X-TITLE
 =Virtual (URL for the session will be provided prior to each weekly sessio
 n):35.896166;-78.870311
END:VEVENT
END:VCALENDAR