BEGIN:VCALENDAR
VERSION:2.0
PRODID:Events Booking
BEGIN:VEVENT
UID:69ecbfe03efd3
SUMMARY:Healthcare Committee - Q2 Meeting - MACRA\, QPP\, MIPS and APMs –
  Where’s the beef in this alphabet soup?
DESCRIPTION:MACRA\, QPP\, MIPS and APMs &ndash\; Where&rsquo\;s the beef in
  this alphabet soup?
 A quick tour of the latest regulations designed to 
 launch a new era in healthcare payment reform.
 Jim Brul&eacute\;\, M.S.\
 , M.A.&nbsp\;Solutions Director\, Regulatory
LOCATION:7001 Weston Pkwy #100\, Cary\, NC 27513\, USA
DTSTART:20160621T213000Z
DTEND:20160621T230000Z
DTSTAMP:20260425T132136Z
ORGANIZER;CN=PMI North Carolina Chapter:MAILTO:bounce@ncpmi.org
GEO:35.828363;-78.791424
X-APPLE-STRUCTURED-LOCATION;VALUE=URI;X-ADDRESS=7001 Weston Pkwy #100\, Car
 y\, NC 27513\, USA;X-APPLE-RADIUS=72;X-TITLE=Matrix:35.828363;-78.791424
END:VEVENT
END:VCALENDAR