BEGIN:VCALENDAR
VERSION:2.0
PRODID:Events Booking
BEGIN:VEVENT
UID:69ecb929e9a21
SUMMARY:Leadership: Q3 Workshop
DESCRIPTION:
LOCATION:100 New Millennium Way
DTSTART:20160811T213000Z
DTEND:20160811T230000Z
DTSTAMP:20260425T125257Z
ORGANIZER;CN=PMI North Carolina Chapter:MAILTO:bounce@ncpmi.org
GEO:35.886644;-78.857439
X-APPLE-STRUCTURED-LOCATION;VALUE=URI;X-ADDRESS=100 New Millennium Way;X-AP
 PLE-RADIUS=72;X-TITLE=Fidelity:35.886644;-78.857439
END:VEVENT
END:VCALENDAR