BEGIN:VCALENDAR
VERSION:2.0
PRODID:Events Booking
BEGIN:VEVENT
UID:69ecb8e16d794
SUMMARY:NCPMI AC 2015
DESCRIPTION:Not required but encouraged
DTSTART:20150925T110000Z
DTEND:20150925T210000Z
DTSTAMP:20260425T125145Z
ORGANIZER;CN=PMI North Carolina Chapter:MAILTO:bounce@ncpmi.org
END:VEVENT
END:VCALENDAR