BEGIN:VCALENDAR
VERSION:2.0
PRODID:Events Booking
BEGIN:VEVENT
UID:69ecb9585959c
SUMMARY:NCPMI Annual Conference
DESCRIPTION:NCPMI's Premier Annual Conference Event will take place on Mond
 ay\, August 22\, 2016.&nbsp\; Details will be published as they become ava
 ilable.
 Thanks for supporting NCPMI events!
DTSTART:20160822T120000Z
DTEND:20160822T210000Z
DTSTAMP:20260425T125344Z
ORGANIZER;CN=PMI North Carolina Chapter:MAILTO:bounce@ncpmi.org
END:VEVENT
END:VCALENDAR