BEGIN:VCALENDAR
VERSION:2.0
PRODID:Events Booking
BEGIN:VEVENT
UID:69e66200f2fd8
SUMMARY:Virtual Workshop Series presented by Apex Systems with Live Q & A: 
 Finding your voice. Experts weight in on tips for speaking up and standing
  out with Lesli Vickrey\, Christine Stone\, and Michael Weiss - Workshop 5
DESCRIPTION:Abstract:
 NCPMI in partnership with Apex System is offering a
  Web Seminar Series on Time Management and Communications for All Practiti
 oners. You must watch the on-demand webinar here prior to attending this l
 ive question and answer event.&nbsp\;These sessions will be free&nbsp\;for
  NCPMI Members&nbsp\;and hosted online via&nbsp\;ZOOM.&nbsp\;
 Overview:
 
 
 Whether you’re in a meeting and have to lead a discussion\, need to
  introduce yourself during a networking event or are looking to get more e
 xperience on the speaking circuit\, nerves can sometimes get the best of y
 ou. Even if you’re not looking to be the highest rated TED Talk presente
 r in the history of TED Talks\, it’s still important to find your voice 
 and be confident in what you have to say.&nbsp\;
 
LOCATION:Virtual (URL for the session will be provided prior to each weekly
  session)
DTSTART:20210106T170000Z
DTEND:20210106T180000Z
DTSTAMP:20260420T172728Z
ORGANIZER;CN=PMI North Carolina Chapter:MAILTO:bounce@ncpmi.org
GEO:35.896166;-78.870311
X-APPLE-STRUCTURED-LOCATION;VALUE=URI;X-ADDRESS=Virtual (URL for the sessio
 n will be provided prior to each weekly session);X-APPLE-RADIUS=72;X-TITLE
 =Virtual (URL for the session will be provided prior to each weekly sessio
 n):35.896166;-78.870311
END:VEVENT
END:VCALENDAR