BEGIN:VCALENDAR
VERSION:2.0
PRODID:Events Booking
BEGIN:VEVENT
UID:69eca5b919e3a
SUMMARY:2019 NCPMI Chapter Elections - Application Submission
DESCRIPTION:
DTSTART:20190621T040000Z
DTEND:20190713T035500Z
DTSTAMP:20260425T113001Z
ORGANIZER;CN=PMI North Carolina Chapter:MAILTO:bounce@ncpmi.org
END:VEVENT
END:VCALENDAR