BEGIN:VCALENDAR
VERSION:2.0
PRODID:Events Booking
BEGIN:VEVENT
UID:69e80da241b3e
SUMMARY:Agile CoP Nov 2018: Demystifying The Scaled Agile Framework
DESCRIPTION:Abstract: 
 &nbsp\;
 This session will provide an overview of
  the Scaled Agile Framework (SAFe)\, and&nbsp\; will demystify the terms a
 nd concepts.&nbsp\; We will also discuss current case studies and practica
 l applications of SAFe.  
 This is your opportunity to increase your know
 ledgebase on an industry trending Framework. 
 &nbsp\;
LOCATION:9000 Weston Pkwy (2 MetLife Way)\, Building 2
DTSTART:20181128T223000Z
DTEND:20181129T000000Z
DTSTAMP:20260421T235202Z
ORGANIZER;CN=PMI North Carolina Chapter:MAILTO:bounce@ncpmi.org
GEO:35.829986;-78.798033
X-APPLE-STRUCTURED-LOCATION;VALUE=URI;X-ADDRESS=9000 Weston Pkwy (2 MetLife
  Way)\, Building 2;X-APPLE-RADIUS=72;X-TITLE=MetLife - Building 2\, Edison
  I:35.829986;-78.798033
END:VEVENT
END:VCALENDAR