BEGIN:VCALENDAR
VERSION:2.0
PRODID:Events Booking
BEGIN:VEVENT
UID:69e8ef740f3fa
SUMMARY:NCPMI Board of Officers Meetings
DESCRIPTION:NCPMI Board Officers meets monthly on the second Monday of each
  month. The meetings are open to&nbsp\;the membership. Any&nbsp\;NCPMI mem
 bers who would like to attend should send an email to BoDAdmin@ncpmi.org&n
 bsp\;at least a week prior\, so any logistical arrangements can be made.
DTSTART:20200511T223000Z
DTEND:20200512T000000Z
DTSTAMP:20260422T155532Z
ORGANIZER;CN=PMI North Carolina Chapter:MAILTO:bounce@ncpmi.org
END:VEVENT
END:VCALENDAR