BEGIN:VCALENDAR
VERSION:2.0
PRODID:Events Booking
BEGIN:VEVENT
UID:69eca4095aae6
SUMMARY:BOD Meeting - June 2019
DESCRIPTION:The NCPMI Board of Directors Meeting is open to all NCPMI membe
 rs. &nbsp\;If you would like to attend\, please send an email to&nbsp\;pre
 sident@ncpmi.org. &nbsp\;&nbsp\;Please note for some portion of the meetin
 g non-elected BoD members may be asked to leave the room.
LOCATION:7025 Kit Creek Rd\, Morrisville\, NC 27560\, USA
DTSTART:20190610T221500Z
DTEND:20190611T000000Z
DTSTAMP:20260425T112249Z
ORGANIZER;CN=PMI North Carolina Chapter:MAILTO:bounce@ncpmi.org
GEO:35.854621;-78.872049
X-APPLE-STRUCTURED-LOCATION;VALUE=URI;X-ADDRESS=7025 Kit Creek Rd\, Morrisv
 ille\, NC 27560\, USA;X-APPLE-RADIUS=72;X-TITLE=Cisco Campus | Building 3\
 , First Floor\, The Vault Conference Room:35.854621;-78.872049
END:VEVENT
END:VCALENDAR