BEGIN:VCALENDAR
VERSION:2.0
PRODID:Events Booking
BEGIN:VEVENT
UID:69e89c50b815d
SUMMARY:Communications and Public Speaking CoP: Session 2: “The Team” o
 n May 25 - \"Culture\, Engagement and the Future of Work\"
DESCRIPTION:Communications and Public Speaking CoP is a part of NC Project 
 Leaders Toastmasters.&nbsp\; It is the perfect&nbsp\;club where project ma
 nagement\, leadership and public speaking skills are featured in a fun\, s
 afe\, supportive environment.
DTSTART:20210525T214500Z
DTEND:20210526T000000Z
DTSTAMP:20260422T100048Z
ORGANIZER;CN=PMI North Carolina Chapter:MAILTO:bounce@ncpmi.org
END:VEVENT
END:VCALENDAR