BEGIN:VCALENDAR
VERSION:2.0
PRODID:Events Booking
BEGIN:VEVENT
UID:69e767177deb7
SUMMARY:Communications CoP: Shifting Gears--Driving Through Life
DESCRIPTION:This is a NCPMI Communication &amp\; Public Speaking CoP- NCPL 
 Toastmasters Club Meeting.&nbsp\;The Meeting includes prepared speeches\, 
 table topics\, networking\, evaluations\, jokes and multiple meeting opera
 tions roles.&nbsp\;5:45 pm - 8:00 pm (5.45 - 6.00 Registration &amp\; Pre-
 meeting Networking)
 Meeting will be convened by Virtual Conference Call
 
 Abstract
 We all remember our first car and driving experience.&nbsp\; 
 Responsibilities and priorities change many times throughout our lives and
  so do the ways we drive. Learning to drive a 5 speed car is similar to ru
 nning a project.&nbsp\; &nbsp\;Denise will share her experiences over the 
 years and how it has influenced her decision-making.&nbsp\;
 Learning Obj
 ective:
 Participants will gain insight into the 5 phases of manual drivi
 ng and driving projects with successful outcomes.
 About the Speaker
 

  Denise Baker\, PMP\,&nbsp\;has worked in the Telecommunications Industry 
 for over 18 years She is the&nbsp\;model from which excellent servant lead
 ers are made. A leader by example\, with a broad smile and a warm personal
 ity\, she keeps going and giving year after year.
 In 2019 Denise served 
 as President of the NC Project Management Institute and President of NC Pr
 oject Leaders Toastmasters\, all at the same time.
 A proud and active me
 mber of Alpha Kappa Alpha Sorority\,&nbsp\;She enjoys entertaining family 
 and friends\, the Kentucky Derby\, and playing Candy Crush.&nbsp\;&nbsp\;
LOCATION:Conference Bridge
DTSTART:20200428T213000Z
DTEND:20200429T000000Z
DTSTAMP:20260421T120127Z
ORGANIZER;CN=PMI North Carolina Chapter:MAILTO:bounce@ncpmi.org
END:VEVENT
END:VCALENDAR