BEGIN:VCALENDAR
VERSION:2.0
PRODID:Events Booking
BEGIN:VEVENT
UID:69e7decc95251
SUMMARY:Communications CoP: Goal Setting and Planning Workshop
DESCRIPTION:This is a NCPMI Communication &amp\; Public Speaking CoP- NCPL 
 Toastmasters Club Meeting. The Meeting includes prepared speeches\, table 
 topics\, networking\, evaluations\, jokes and multiple meeting operations 
 roles. 5:30 pm -8:00 pm (5.30-6.00 Registration\, Snack &amp\; Pre-meeting
  Networking)
 Cisco Campus - Building 3\, First Floor\, The Vault Confere
 nce Room
 Abstract:Setting goals without having a plan to meet them is no
 t a recipe for success\, both in project management and in competitive run
 ning.&nbsp\; Josh will be talking about planning his marathon goals is lik
 e planning for any other project. He will also discuss the strategies used
  to meet his goals and the lessons learned along the way.Learning Objectiv
 es:
 
 Define Goals &amp\; Planning
 SMART goals
 Implementing goals

  The planning process
 Five steps to planning
 
LOCATION:7025 Kit Creek Rd\, Morrisville\, NC 27560\, USA
DTSTART:20190514T213000Z
DTEND:20190515T000000Z
DTSTAMP:20260421T203212Z
ORGANIZER;CN=PMI North Carolina Chapter:MAILTO:bounce@ncpmi.org
GEO:35.854621;-78.872049
X-APPLE-STRUCTURED-LOCATION;VALUE=URI;X-ADDRESS=7025 Kit Creek Rd\, Morrisv
 ille\, NC 27560\, USA;X-APPLE-RADIUS=72;X-TITLE=Cisco Campus | Building 3\
 , First Floor\, The Vault Conference Room:35.854621;-78.872049
END:VEVENT
END:VCALENDAR