BEGIN:VCALENDAR
VERSION:2.0
PRODID:Events Booking
BEGIN:VEVENT
UID:69e7680ded309
SUMMARY:Leadership CoP: Leadership from the top down
DESCRIPTION:Abstract:
 Many organizations have developed a functional blin
 dness to their defects.&nbsp\; They are not suffering because they cannot 
 resolve their problems\, but because they cannot see their problem.
 In t
 his session attendees will
 
 Learn what organizations can do to effecti
 vely correct or navigate functional blindness
 Learn how to apply the pri
 nciples of people\, plant\, and profit to support a corporate culture of m
 utual accountability\, respect and responsibility
 
LOCATION:8001 Development Dr\, Morrisville\, NC 27560\, USA
DTSTART:20190509T213000Z
DTEND:20190509T230000Z
DTSTAMP:20260421T120533Z
ORGANIZER;CN=PMI North Carolina Chapter:MAILTO:bounce@ncpmi.org
GEO:35.863749;-78.878058
X-APPLE-STRUCTURED-LOCATION;VALUE=URI;X-ADDRESS=8001 Development Dr\, Morri
 sville\, NC 27560\, USA;X-APPLE-RADIUS=72;X-TITLE=Lenovo - RTP:35.863749;-
 78.878058
END:VEVENT
END:VCALENDAR