BEGIN:VCALENDAR
VERSION:2.0
PRODID:Events Booking
BEGIN:VEVENT
UID:69e94ad881599
SUMMARY:Agile CoP: Elaboration/Decomposition of User Stories
DESCRIPTION:Let’s see methods to decompose User Stories.
 You must regis
 ter for this event and bring ID to be allowed in MetLife Building.
LOCATION:101 Metlife Way\, Cary\, NC 27513\, USA
DTSTART:20190529T213000Z
DTEND:20190529T230000Z
DTSTAMP:20260422T222528Z
ORGANIZER;CN=PMI North Carolina Chapter:MAILTO:bounce@ncpmi.org
GEO:35.830135;-78.800177
X-APPLE-STRUCTURED-LOCATION;VALUE=URI;X-ADDRESS=101 Metlife Way\, Cary\, NC
  27513\, USA;X-APPLE-RADIUS=72;X-TITLE=MetLife | 101 MetLife Way | Cary\, 
 North Carolina 27513 - Lovelace Room Building 1:35.830135;-78.800177
END:VEVENT
END:VCALENDAR