BEGIN:VCALENDAR
VERSION:2.0
PRODID:Events Booking
BEGIN:VEVENT
UID:69e83f82b7d0c
SUMMARY:Global CoP: Bridging the Cultural Gap - When East meets West!
DESCRIPTION:This is a NCPMI Global CoP:&nbsp\; Bridging the Cultural Gap 
 – When East meets West!&nbsp\;
 Time:&nbsp\; 7:30am - 9:00am EST (Regis
 tration Begins at 7:15am)
 Location:&nbsp\; Webinar&nbsp\;&nbsp\;
 Join 
 online meeting  Join by Phone +19842041471\,\,65926159# (Dial-in Number) &
 nbsp\;&nbsp\;&nbsp\;&nbsp\;&nbsp\;&nbsp\;&nbsp\;&nbsp\;&nbsp\;&nbsp\; Engl
 ish (United States) Find a local number  Conference ID: 65926159
 An Inte
 rnational Event of Project Professionals from Multiple Continents
 Synops
 is of Presentation:&nbsp\; Today\, the world has become a global village.&
 nbsp\;&nbsp\;With businesses transcending geographic boundaries\, project 
 managers have to deal with a geographically and culturally diverse work fo
 rce\, in delivering business results.&nbsp\;&nbsp\;Understanding the cultu
 ral differences and adapting to them is overly important for project manag
 ers today\, than ever before.&nbsp\;&nbsp\;This session would focus on tec
 hniques that you can use to identify and bridge cultural gaps\, when “Ea
 st meets West”.&nbsp\;
 About the Guest Speaker:&nbsp\;
 -&nbsp\; &nbs
 p\;Learn about the key cultural differences between the East and the West.
 
 -&nbsp\; &nbsp\;Learn to identify\, acknowledge\, appreciate and adapt 
 to the cultural gaps when East meets West.
 -&nbsp\; &nbsp\;Learn about c
 ommunication and collaboration tools/techniques that you can use\, in your
  day-to-day interactions with a geographically diverse workforce.
DTSTART:20190518T113000Z
DTEND:20190518T123000Z
DTSTAMP:20260422T032450Z
ORGANIZER;CN=PMI North Carolina Chapter:MAILTO:bounce@ncpmi.org
END:VEVENT
END:VCALENDAR