BEGIN:VCALENDAR
VERSION:2.0
PRODID:Events Booking
BEGIN:VEVENT
UID:69e7ee2611d07
SUMMARY:Higher Education CoP May 2021: Project Management and Pharmacy Accr
 editation
DESCRIPTION:Project Management and Pharmacy Accreditation
 Mark Herring\, 
 DPharm\, CSM
 05.18.2021 12 -1 PM
 Zoom Registration:&nbsp\;https://qrgo
 .page.link/Att7F
DTSTART:20210518T160000Z
DTEND:20210518T170000Z
DTSTAMP:20260421T213742Z
ORGANIZER;CN=PMI North Carolina Chapter:MAILTO:bounce@ncpmi.org
END:VEVENT
END:VCALENDAR