BEGIN:VCALENDAR
VERSION:2.0
PRODID:Events Booking
BEGIN:VEVENT
UID:69ea6718ddb62
SUMMARY:Public Sector CoP - Collaborative Project Management with Smartshee
 t
DESCRIPTION:Join us for an exciting and interactive session exploring how S
 martsheet - a&nbsp\;SaaS application for collaboration and work management
  - can be integrated into your environment to increase collaboration and a
 utomate work. This is not a canned sales presentation - it is a live demon
 stration designed to be highly interactive and engaging\, so bring your sm
 artphone and/or laptop to get the full experience. Your presenter is a sea
 soned project\, program\, and portfolio manager\, so bring your real-world
  challenges and let's solve them together!
LOCATION:7001 Weston Pkwy #100\, Cary\, NC 27513\, USA
DTSTART:20190918T213000Z
DTEND:20190918T230000Z
DTSTAMP:20260423T183816Z
ORGANIZER;CN=PMI North Carolina Chapter:MAILTO:bounce@ncpmi.org
GEO:35.828363;-78.791424
X-APPLE-STRUCTURED-LOCATION;VALUE=URI;X-ADDRESS=7001 Weston Pkwy #100\, Car
 y\, NC 27513\, USA;X-APPLE-RADIUS=72;X-TITLE=Matrix:35.828363;-78.791424
END:VEVENT
END:VCALENDAR