BEGIN:VCALENDAR
VERSION:2.0
PRODID:Events Booking
BEGIN:VEVENT
UID:69e7f20b0e6e5
SUMMARY:Public Sector CoP: Improve Portfolio Management Through Effective P
 roject Intake
DESCRIPTION:Abstract:
 Project intake is the first step in developing a fl
 exible project portfolio that enables strategy and delivers outcomes to me
 et your organizational goals.&nbsp\; Regardless of methodology\, knowing a
 nd managing work in a transparent way will improve prioritization and sequ
 encing to maximize available resources.
LOCATION:7001 Weston Pkwy #100\, Cary\, NC 27513\, USA
DTSTART:20190515T213000Z
DTEND:20190515T230000Z
DTSTAMP:20260421T215419Z
ORGANIZER;CN=PMI North Carolina Chapter:MAILTO:bounce@ncpmi.org
GEO:35.828363;-78.791424
X-APPLE-STRUCTURED-LOCATION;VALUE=URI;X-ADDRESS=7001 Weston Pkwy #100\, Car
 y\, NC 27513\, USA;X-APPLE-RADIUS=72;X-TITLE=Matrix:35.828363;-78.791424
END:VEVENT
END:VCALENDAR