BEGIN:VCALENDAR
VERSION:2.0
PRODID:Events Booking
BEGIN:VEVENT
UID:69e7f122638ec
SUMMARY:Satellite Meeting: Agile in 7 Minutes
DESCRIPTION:Abstract:
 Betsy will facilitate a type of “lean coffee” f
 ormat run as an open forum where anyone can submit questions as they relat
 e to Agile\, Agile Project Management\, the role of a PM in an Agile envir
 onment\, etc. Participants will vote on the questions and topics they want
  to explore during this session. All answers and discussions will be timeb
 oxed to 7 minutes in order to get through as many as possible. Come prepar
 ed with all your “highly caffeinated” questions and be ready to move q
 uickly.
LOCATION:1000 Centregreen Way
DTSTART:20190515T213000Z
DTEND:20190515T230000Z
DTSTAMP:20260421T215026Z
ORGANIZER;CN=PMI North Carolina Chapter:MAILTO:bounce@ncpmi.org
GEO:35.827114;-78.797576
X-APPLE-STRUCTURED-LOCATION;VALUE=URI;X-ADDRESS=1000 Centregreen Way;X-APPL
 E-RADIUS=72;X-TITLE=Deutsche Bank:35.827114;-78.797576
END:VEVENT
END:VCALENDAR