BEGIN:VCALENDAR
VERSION:2.0
PRODID:Events Booking
BEGIN:VEVENT
UID:69ecb8a45e879
SUMMARY:Chapter: June 2016 - Alpha Project Managers
DESCRIPTION:Title:&nbsp\;Alpha Project Managers: What the Top 2% Know That 
 Everyone Else Does Not
 Video Introduction:&nbsp\;&nbsp\;https://www.yout
 ube.com/watch?v=KTVyLb4NDRk&amp\;feature=youtu.be
 Abstract:&nbsp\;The&nb
 sp\;Alpha presentation is based off Andy&rsquo\;s book&nbsp\;Alpha Project
  Managers: What the Top 2% Know That Everyone Else Does Not.&nbsp\;Andy wi
 ll discuss the myths and realities surrounding the world&rsquo\;s top proj
 ect managers\, and the underlying traits that make the Alphas stand out am
 ong their peers. You&rsquo\;ll learn how your company&rsquo\;s project man
 agers can incorporate these same characteristics\, skills and successes in
 to their own management style.
LOCATION:4700 Emperor Blvd\, Research Triangle Park
DTSTART:20160623T210000Z
DTEND:20160624T000000Z
DTSTAMP:20260425T125044Z
ORGANIZER;CN=PMI North Carolina Chapter:MAILTO:bounce@ncpmi.org
GEO:35.877952;-78.84081
X-APPLE-STRUCTURED-LOCATION;VALUE=URI;X-ADDRESS=4700 Emperor Blvd\, Researc
 h Triangle Park;X-APPLE-RADIUS=72;X-TITLE=Sheraton Imperial RTP:35.877952;
 -78.84081
END:VEVENT
END:VCALENDAR