BEGIN:VCALENDAR
VERSION:2.0
PRODID:Events Booking
BEGIN:VEVENT
UID:69ecb8986d387
SUMMARY:Chapter - May 2015
DESCRIPTION:From Chaos to Success: How Better Cost Accounting can Propel Yo
 ur Company to Higher Profitability - Curt Finch
DTSTART:20150521T213000Z
DTEND:20150522T000000Z
DTSTAMP:20260425T125032Z
ORGANIZER;CN=PMI North Carolina Chapter:MAILTO:bounce@ncpmi.org
END:VEVENT
END:VCALENDAR