BEGIN:VCALENDAR
VERSION:2.0
PRODID:Events Booking
BEGIN:VEVENT
UID:69e81e6c897a7
SUMMARY:Chapter Meeting – May 2021:  “Delight your customers with Four 
 Eyes of Quality”
DESCRIPTION:Abstract:
 Project success depends on meeting the project's in
 tended value and benefits\, and quality is an integral part of product and
  project success.
 The term \"Everyone is responsible for Quality\" promo
 tes the quality culture in agile organizations. However\, \"Who from every
 one in the team is responsible for quality\" and \"What are the boundaries
  of quality\,\" and \"How an agile team member can contribute to quality i
 mprovement based on the knowledge and skills\" are not prescribed in stand
 ard agile frameworks.
 This presentation discusses specific quality and t
 esting strategies to achieve product and project quality in an agile envir
 onment. The key focus is to divide overall quality activities among the te
 am based on their skills\, knowledge\, and understanding of the product qu
 ality.
DTSTART:20210520T214500Z
DTEND:20210520T234500Z
DTSTAMP:20260422T010340Z
ORGANIZER;CN=PMI North Carolina Chapter:MAILTO:bounce@ncpmi.org
END:VEVENT
END:VCALENDAR