BEGIN:VCALENDAR
VERSION:2.0
PRODID:Events Booking
BEGIN:VEVENT
UID:69e89ae3234e3
SUMMARY:Career Workshop – Steps to Get Ready For The Technical Future
DESCRIPTION:Abstract:   Get in front of the technology curve….Steps to ge
 t ready for the Technical Future!
 With the speed of technical change eve
 r increasing\, how can we know what’s coming\, much less plan for it?&nb
 sp\; To effectively lead within our organizations\, project managers must 
 look out into the future\, beyond what is visible\, and embrace what is po
 ssible.&nbsp\;
 You are invited to attend an enlightening and sometimes c
 hallenging presentation on the steps project managers must take to compreh
 end and master the technological landscape to stay relevant and succeed!

  Based on her technical expertise and professional experience\, Karen McCa
 nn (CEO of McCann Automation LLC) will provide insights into the technical
  future to get you poised for success in 2021 and beyond.
DTSTART:20210525T220000Z
DTEND:20210525T230000Z
DTSTAMP:20260422T095443Z
ORGANIZER;CN=PMI North Carolina Chapter:MAILTO:bounce@ncpmi.org
END:VEVENT
END:VCALENDAR